BEGIN:VCALENDAR
VERSION:2.0
PRODID:-//AudioTheme 3.0.2
BEGIN:VEVENT
UID:urn:uuid:a285b742-6048-4000-a0f4-adf88c930d0f
URL:https://klerviamusic.fr/shows/la-java/
DTSTART;TZID=GMT:20180526T180000
SUMMARY:La Java
LOCATION:La java\, 105 rue du Faubourg du Temple\, PARIS\, Ile-de-france\, France\, 75010
END:VEVENT
END:VCALENDAR
