BEGIN:VCALENDAR
VERSION:2.0
PRODID:-//AudioTheme 3.0.2
BEGIN:VEVENT
UID:urn:uuid:a9731464-64a0-4fbc-ae6b-7d0a6303d22d
URL:https://klerviamusic.fr/shows/le-chat-noir/
DTSTART;TZID=GMT:20180527T160000
SUMMARY:Le chat noir
LOCATION:Le chat noir\, 76 rue Jean Pierre Timbaud\, PARIS\, Ile-de-france\, France\, 75011
END:VEVENT
END:VCALENDAR
