BEGIN:VCALENDAR
VERSION:2.0
PRODID:-//AudioTheme 3.0.2
BEGIN:VEVENT
UID:urn:uuid:865942cd-e24a-4753-aee3-cf28251f6c05
URL:https://klerviamusic.fr/shows/le-prix-carolina-au-reservoir/
DTSTART;TZID=GMT:20180423T183000
SUMMARY:Le Prix Carolina Au Réservoir
DESCRIPTION:Entrée gratuite   https://www.facebook.com/events/1273270109439377/
LOCATION:Le Réservoir\, 16 Rue de la Forge Royale\, PARIS\, Paris\, France\, 75011
END:VEVENT
END:VCALENDAR
